BEGIN:VCALENDAR
VERSION:2.0
PRODID:-//wp-events-plugin.com//7.2.3.1//EN
TZID:Europe/Berlin
X-WR-TIMEZONE:Europe/Berlin
BEGIN:VEVENT
UID:40@gospelprojekt-hd.de
DTSTART;TZID=Europe/Berlin:20231219T200000
DTEND;TZID=Europe/Berlin:20231219T214500
DTSTAMP:20231022T160439Z
URL:https://gospelprojekt-hd.de/events/weihnachtsfeier/
SUMMARY:Weihnachtsfeier
DESCRIPTION:Gemütliches Beisammensein mit Punsch und Weihnachtsleckereien 
 und natürlich ganz viel Musik
LOCATION:Haus der Christuskirche\, Zähringer Str. 26\, Heidelberg\, 69115\
 , Deutschland
X-APPLE-STRUCTURED-LOCATION;VALUE=URI;X-ADDRESS=Zähringer Str. 26\, Heidel
 berg\, 69115\, Deutschland;X-APPLE-RADIUS=100;X-TITLE=Haus der Christuskir
 che:geo:0,0
END:VEVENT
BEGIN:VTIMEZONE
TZID:Europe/Berlin
X-LIC-LOCATION:Europe/Berlin
BEGIN:STANDARD
DTSTART:20231029T020000
TZOFFSETFROM:+0200
TZOFFSETTO:+0100
TZNAME:CET
END:STANDARD
END:VTIMEZONE
END:VCALENDAR