BEGIN:VCALENDAR
VERSION:2.0
PRODID:-//wp-events-plugin.com//7.2.3.1//EN
TZID:Europe/Berlin
X-WR-TIMEZONE:Europe/Berlin
BEGIN:VEVENT
UID:38@gospelprojekt-hd.de
DTSTART;TZID=Europe/Berlin:20240301T180000
DTEND;TZID=Europe/Berlin:20240301T234500
DTSTAMP:20231022T172432Z
URL:https://gospelprojekt-hd.de/events/probewochenende-2024/
SUMMARY:Probewochenende 2024
DESCRIPTION:Unser jährliches Probewochenende in Bad Herrenalb
CATEGORIES:Chorfreizeit
LOCATION:Henhöferheim\, Wallfahrtstraße 70\, Bad Herrenalb\, 76332\, Deut
 schland
X-APPLE-STRUCTURED-LOCATION;VALUE=URI;X-ADDRESS=Wallfahrtstraße 70\, Bad H
 errenalb\, 76332\, Deutschland;X-APPLE-RADIUS=100;X-TITLE=Henhöferheim:ge
 o:0,0
END:VEVENT
BEGIN:VTIMEZONE
TZID:Europe/Berlin
X-LIC-LOCATION:Europe/Berlin
BEGIN:STANDARD
DTSTART:20231029T020000
TZOFFSETFROM:+0200
TZOFFSETTO:+0100
TZNAME:CET
END:STANDARD
END:VTIMEZONE
END:VCALENDAR