BEGIN:VCALENDAR
VERSION:2.0
PRODID:-//wp-events-plugin.com//7.2.3.1//EN
TZID:Europe/Berlin
X-WR-TIMEZONE:Europe/Berlin
BEGIN:VEVENT
UID:49@gospelprojekt-hd.de
DTSTART;TZID=Europe/Berlin:20231201T170000
DTEND;TZID=Europe/Berlin:20231201T173000
DTSTAMP:20231128T133339Z
URL:https://gospelprojekt-hd.de/events/lebendiger-adventskalender/
SUMMARY:Lebendiger Adventskalender
DESCRIPTION:Das Gospelprojekt gestaltet ein Türchen des Lebendigen Advents
 kalenders in der Weststadt. Kommen Sie mit uns zu ein paar schönen Gospel
 s in Weihnachtsstimmung.
LOCATION:Wilhelmsplatz\, Wilhelmsplatz\, Heidelberg\, 69115\, Deutschland
X-APPLE-STRUCTURED-LOCATION;VALUE=URI;X-ADDRESS=Wilhelmsplatz\, Heidelberg\
 , 69115\, Deutschland;X-APPLE-RADIUS=100;X-TITLE=Wilhelmsplatz:geo:0,0
END:VEVENT
BEGIN:VTIMEZONE
TZID:Europe/Berlin
X-LIC-LOCATION:Europe/Berlin
BEGIN:STANDARD
DTSTART:20231029T020000
TZOFFSETFROM:+0200
TZOFFSETTO:+0100
TZNAME:CET
END:STANDARD
END:VTIMEZONE
END:VCALENDAR