BEGIN:VCALENDAR
VERSION:2.0
PRODID:-//wp-events-plugin.com//7.2.3.1//EN
TZID:Europe/Berlin
X-WR-TIMEZONE:Europe/Berlin
BEGIN:VEVENT
UID:43@gospelprojekt-hd.de
DTSTART;TZID=Europe/Berlin:20240706T170000
DTEND;TZID=Europe/Berlin:20240706T190000
DTSTAMP:20231022T164311Z
URL:https://gospelprojekt-hd.de/events/gospelprojekt-beim-sommerfest-der-c
 hristuskirche/
SUMMARY:Gospelprojekt beim Sommerfest der Christuskirche
DESCRIPTION:
LOCATION:Christuskirche\, Zähringer Str. 30\, Heidelberg\, 69115\, Deutsch
 land
X-APPLE-STRUCTURED-LOCATION;VALUE=URI;X-ADDRESS=Zähringer Str. 30\, Heidel
 berg\, 69115\, Deutschland;X-APPLE-RADIUS=100;X-TITLE=Christuskirche:geo:0
 ,0
END:VEVENT
BEGIN:VTIMEZONE
TZID:Europe/Berlin
X-LIC-LOCATION:Europe/Berlin
BEGIN:DAYLIGHT
DTSTART:20240331T030000
TZOFFSETFROM:+0100
TZOFFSETTO:+0200
TZNAME:CEST
END:DAYLIGHT
END:VTIMEZONE
END:VCALENDAR