BEGIN:VCALENDAR
VERSION:2.0
PRODID:-//wp-events-plugin.com//7.2.3.1//EN
TZID:Europe/Berlin
X-WR-TIMEZONE:Europe/Berlin
BEGIN:VEVENT
UID:74@gospelprojekt-hd.de
DTSTART;TZID=Europe/Berlin:20240609T180000
DTEND;TZID=Europe/Berlin:20240609T193000
DTSTAMP:20240403T162332Z
URL:https://gospelprojekt-hd.de/events/gospelkonzert/
SUMMARY:Are you ready? - Gospelkonzert
DESCRIPTION:Unser Konzertwochenende steht unter dem Motto „Are you ready?
 “. Im namensgebenden Gospelsong geht der Text noch weiter: Are you ready
  for a brighter day? Bereit für einen helleren Tag. Oder vielleicht einen
  Neuanfang? Wie könnte so ein strahlender Tag aussehen? Was brauchen wir\
 , damit wir bereit sind\, wenn dieser Tag kommt? Diesen Fragen widmen wir 
 uns am Konzertwochenende\,  zu dem wir Sie alle herzlich einladen!
CATEGORIES:Konzert
LOCATION:Christuskirche\, Zähringer Str. 30\, Heidelberg\, 69115\, Deutsch
 land
X-APPLE-STRUCTURED-LOCATION;VALUE=URI;X-ADDRESS=Zähringer Str. 30\, Heidel
 berg\, 69115\, Deutschland;X-APPLE-RADIUS=100;X-TITLE=Christuskirche:geo:0
 ,0
END:VEVENT
BEGIN:VTIMEZONE
TZID:Europe/Berlin
X-LIC-LOCATION:Europe/Berlin
BEGIN:DAYLIGHT
DTSTART:20240331T030000
TZOFFSETFROM:+0100
TZOFFSETTO:+0200
TZNAME:CEST
END:DAYLIGHT
END:VTIMEZONE
END:VCALENDAR