BEGIN:VCALENDAR
VERSION:2.0
PRODID:-//wp-events-plugin.com//7.2.3.1//EN
TZID:Europe/Berlin
X-WR-TIMEZONE:Europe/Berlin
BEGIN:VEVENT
UID:44@gospelprojekt-hd.de
DTSTART;TZID=Europe/Berlin:20240913T180000
DTEND;TZID=Europe/Berlin:20240915T234500
DTSTAMP:20240913T142804Z
URL:https://gospelprojekt-hd.de/events/11-internationaler-gospelkirchentag
 -in-essen/
SUMMARY:11. Internationaler Gospelkirchentag in Essen
DESCRIPTION:Auftritt des Gospelprojekts bei der langen Gospelnacht
CATEGORIES:Konzert
LOCATION:Essen\, Verschiedene Orte\, Essen\, Deutschland
X-APPLE-STRUCTURED-LOCATION;VALUE=URI;X-ADDRESS=Verschiedene Orte\, Essen\,
  Deutschland;X-APPLE-RADIUS=100;X-TITLE=Essen:geo:0,0
END:VEVENT
BEGIN:VTIMEZONE
TZID:Europe/Berlin
X-LIC-LOCATION:Europe/Berlin
BEGIN:DAYLIGHT
DTSTART:20240331T030000
TZOFFSETFROM:+0100
TZOFFSETTO:+0200
TZNAME:CEST
END:DAYLIGHT
END:VTIMEZONE
END:VCALENDAR